BEGIN:VCALENDAR
VERSION:2.0
PRODID:-//CERN//INDICO//EN
BEGIN:VEVENT
SUMMARY:Exclusive\, Diffraction\, & Tagging Meeting
DTSTART:20260504T160000Z
DTEND:20260504T170000Z
DTSTAMP:20260422T101000Z
UID:indico-event-30777@indico.bnl.gov
DESCRIPTION:Zoom connection info -https://york-ac-uk.zoom.us/meetings/9946
 9056338/invitations?signature=dKrcZ_iUrjZUP95n0AwjOdwp1sHTBVyY9FbKG68ZBLs\
 nMeeting ID: 994 6905 6338Passcode: 280155\n\nhttps://indico.bnl.gov/event
 /30777/
URL:https://indico.bnl.gov/event/30777/
END:VEVENT
END:VCALENDAR
