BEGIN:VCALENDAR
VERSION:2.0
PRODID:-//CERN//INDICO//EN
BEGIN:VEVENT
SUMMARY:PF Technical Discussion
DTSTART:20260414T150000Z
DTEND:20260414T160000Z
DTSTAMP:20260422T093500Z
UID:indico-event-32350@indico.bnl.gov
DESCRIPTION:Zoom coordinates:\n\nURL: https://jlab-org.zoomgov.com/j/16046
 38389?pwd=3dRq55N0vb6hxJKbTaqRLFa9HgfzxL.1 \nMeeting ID: 160 463 8389\nPa
 ssword: flow\n\nMeeting Notes\n\nSee the google doc\n\n\nhttps://indico.b
 nl.gov/event/32350/
URL:https://indico.bnl.gov/event/32350/
END:VEVENT
END:VCALENDAR
