BEGIN:VCALENDAR
VERSION:2.0
PRODID:-//CERN//INDICO//EN
BEGIN:VEVENT
SUMMARY:ePIC pfRICH General meeting
DTSTART:20260402T160000Z
DTEND:20260402T173500Z
DTSTAMP:20260419T181900Z
UID:indico-event-32357@indico.bnl.gov
DESCRIPTION:zoom: https://bnl.zoomgov.com/j/1619779791?pwd=TUtVak9TMjdsb05
 CbkVrZmh2a2JzZz09\n\nrecording: https://bnl.zoomgov.com/rec/share/6wcdkGa8
 oCPiEuSgEe-O8j-_u2v8rZ2gReKzuOMFboczyBdSUMj7XAIeZbVmx9_r.A8FqsLULxfaMvimC\
 nPasscode: ?te7Wx$*\n\n\n\nhttps://indico.bnl.gov/event/32357/
URL:https://indico.bnl.gov/event/32357/
END:VEVENT
END:VCALENDAR
