BEGIN:VCALENDAR
VERSION:2.0
PRODID:-//CERN//INDICO//EN
BEGIN:VEVENT
SUMMARY:ePIC pfRICH Engineering/Design Meeting
DTSTART:20260406T170000Z
DTEND:20260406T180000Z
DTSTAMP:20260419T181900Z
UID:indico-event-32404@indico.bnl.gov
DESCRIPTION:\n\n\n\nZoom: https://jlab-org.zoomgov.com/j/16028326423?pwd=c
 mpHc0s3cWMyQWV0enhvQlVmeVJpQT09\nMeeting ID: 160 2832 6423 Passcode: 3DdgR
 UoscP\n\n\n\n\n \nRecording:\n\nhttps://indico.bnl.gov/event/32404/
URL:https://indico.bnl.gov/event/32404/
END:VEVENT
END:VCALENDAR
