BEGIN:VCALENDAR
VERSION:2.0
PRODID:-//CERN//INDICO//EN
BEGIN:VEVENT
SUMMARY:ePIC pfRICH General meeting
DTSTART:20260409T160000Z
DTEND:20260409T173500Z
DTSTAMP:20260419T181900Z
UID:indico-event-32431@indico.bnl.gov
DESCRIPTION:zoom: https://bnl.zoomgov.com/j/1619779791?pwd=TUtVak9TMjdsb05
 CbkVrZmh2a2JzZz09\n\nrecording: https://bnl.zoomgov.com/rec/share/-WMpBeL1
 82PnanIoWpWy6bpC8a0fn0aS0IefVzEd3Gw6z7xVUUwXmn9K7oI5nFw6.3IdpNCtb30TY8iL-\
 nPasscode: 7=zD4X*d\n\n\n\nhttps://indico.bnl.gov/event/32431/
URL:https://indico.bnl.gov/event/32431/
END:VEVENT
END:VCALENDAR
