BEGIN:VCALENDAR
VERSION:2.0
PRODID:-//CERN//INDICO//EN
BEGIN:VEVENT
SUMMARY:EIC HRPPD "2026 design" meeting #17
DTSTART:20260414T160000Z
DTEND:20260414T170000Z
DTSTAMP:20260425T211100Z
UID:indico-event-32476@indico.bnl.gov
DESCRIPTION:\nhttps://jlab-org.zoomgov.com/j/1618894472?pwd=mVoyLxxkLwnjNp
 coSrMXYRClif0JLB.1\nMeeting ID: 161 889 4472Passcode: 441899\n\n \nRecord
 ing: \nhttps://jlab-org.zoomgov.com/rec/share/hyjmDJBiTCpHzJX3FYp3Yg7P0SX
 aGI37RwIxzsl4eq4qBnN9iHwkiQp3mhg000Dx.Z7m7Wg3Qtd545p1B\nPasscode: Qx3c#mgY
 \n \n\nhttps://indico.bnl.gov/event/32476/
URL:https://indico.bnl.gov/event/32476/
END:VEVENT
END:VCALENDAR
