BEGIN:VCALENDAR
VERSION:2.0
PRODID:-//CERN//INDICO//EN
BEGIN:VEVENT
SUMMARY:ePIC Streaming WG meeting
DTSTART:20260414T130000Z
DTEND:20260414T143000Z
DTSTAMP:20260422T093500Z
UID:indico-event-32477@indico.bnl.gov
DESCRIPTION:The ePIC Streaming Computing Model meetings are organized by t
 he joint DAQ / S&C Streaming Computing Model WGs. Meetings are nominally w
 eekly\, Tuesdays at 9:00 a.m. (EST). They address streaming readout (SRO) 
 and all aspects of the ePIC streaming computing model. \nSee the meeting 
 notes page for agendas prepared in advance and live notes. \nWe use Zoom 
 for the remote meetings: \n\nhttps://jlab-org.zoomgov.com/j/1614875218?pw
 d=RFRPcGlNM3BaS0pQaDhxS3JURkdJZz09 \nMeeting ID: 1614875218\nPassword: 92
 5723\n\n\nhttps://indico.bnl.gov/event/32477/
URL:https://indico.bnl.gov/event/32477/
END:VEVENT
END:VCALENDAR
