BEGIN:VCALENDAR
VERSION:2.0
PRODID:-//CERN//INDICO//EN
BEGIN:VEVENT
SUMMARY:Physics Department Summer Lectures 2026
DTSTART:20260608T171500Z
DTEND:20260727T183000Z
DTSTAMP:20260419T181900Z
UID:indico-event-32487@indico.bnl.gov
CONTACT:elamar@bnl.gov
DESCRIPTION:Speakers: Rachid Nouicer (Brookhaven National Laboratory)\n\nT
 he Physics Department Summer Lecture series introduces the latest research
  in nuclear and particle physics being pursued at Brookhaven Lab at a leve
 l appropriate for advanced undergraduate STEM students and beginning gradu
 ate students.  The series will include lectures on the Standard Model of
  particle physics\, Quantum Chromodynamics (QCD)\, current and future nucl
 ear and particle physics experiments and introductory cosmology.  The le
 ctures will cover both theoretical concepts  as well as detector technol
 ogies and the latest experimental and computational techniques.\nLectures 
 for summer 2026 will be held Hybrid  and recorded. To attend the lectures
  please use this Zoom Link .\n\nhttps://indico.bnl.gov/event/32487/
LOCATION:Large Seminar Room and Zoom (Hybrid)
URL:https://indico.bnl.gov/event/32487/
END:VEVENT
END:VCALENDAR
