BEGIN:VCALENDAR
VERSION:2.0
PRODID:-//CERN//INDICO//EN
BEGIN:VEVENT
SUMMARY:ePIC pfRICH General meeting
DTSTART:20260416T160000Z
DTEND:20260416T173500Z
DTSTAMP:20260419T181900Z
UID:indico-event-32493@indico.bnl.gov
DESCRIPTION:zoom: https://bnl.zoomgov.com/j/1619779791?pwd=TUtVak9TMjdsb05
 CbkVrZmh2a2JzZz09\n\nrecording: https://bnl.zoomgov.com/rec/share/xOL7zPxp
 XNokl-vgML9WPs11ON5ey-6WSY7HpjeVqk8Obkwqfzou--EiOhNlbpui.aZunjbSUG6LDj3V1\
 nPasscode: g8^^&ESF\n\n\n\nhttps://indico.bnl.gov/event/32493/
URL:https://indico.bnl.gov/event/32493/
END:VEVENT
END:VCALENDAR
