BEGIN:VCALENDAR
VERSION:2.0
PRODID:-//CERN//INDICO//EN
BEGIN:VEVENT
SUMMARY:Working Group meeting
DTSTART:20260417T150000Z
DTEND:20260417T170000Z
DTSTAMP:20260425T191500Z
UID:indico-event-32507@indico.bnl.gov
DESCRIPTION:Twiki: https://twiki.cern.ch/twiki/bin/view/Main/EpicTOFElectr
 onics\nZoom: https://riceuniversity.zoom.us/j/98405417492?pwd=YkZHSTBOOUMz
 QUxFMUlBa1hMUWhoZz09\n\nhttps://indico.bnl.gov/event/32507/
URL:https://indico.bnl.gov/event/32507/
END:VEVENT
END:VCALENDAR
