BEGIN:VCALENDAR
VERSION:2.0
PRODID:-//CERN//INDICO//EN
BEGIN:VEVENT
SUMMARY:Physics and Detector Simulation Meeting
DTSTART:20260428T140000Z
DTEND:20260428T160000Z
DTSTAMP:20260422T093500Z
UID:indico-event-32557@indico.bnl.gov
DESCRIPTION:Zoom: https://bnl.zoomgov.com/j/1618297920?pwd=VFZteWYvRnV4Vlh
 WZ29aOGZrNDJrZz09\n\nhttps://indico.bnl.gov/event/32557/
URL:https://indico.bnl.gov/event/32557/
END:VEVENT
END:VCALENDAR
