BEGIN:VCALENDAR
VERSION:2.0
PRODID:-//CERN//INDICO//EN
BEGIN:VEVENT
SUMMARY:EIC HRPPD "2026 design" meeting #18
DTSTART:20260421T160000Z
DTEND:20260421T170000Z
DTSTAMP:20260425T211100Z
UID:indico-event-32569@indico.bnl.gov
DESCRIPTION:\nhttps://jlab-org.zoomgov.com/j/1606297001?pwd=CcCh5mSMbW94Da
 BtICHbRablfOMvda.1\n \nMeeting ID: 160 629 7001\nPasscode: 426088\n\n \n
 Recording: \nhttps://jlab-org.zoomgov.com/rec/share/aMiODk17T0mY8aeFo7K07
 tlOwuaM3tcq2P9gJYRs494N9KeovdeyPQl810Ws0N7C.t81vNv7GluWMbWOM\nPasscode: P1
 jRc*V#\n\nhttps://indico.bnl.gov/event/32569/
URL:https://indico.bnl.gov/event/32569/
END:VEVENT
END:VCALENDAR
