BEGIN:VCALENDAR
VERSION:2.0
PRODID:-//CERN//INDICO//EN
BEGIN:VEVENT
SUMMARY:ePIC/EICUG Social Media Meeting
DTSTART:20260423T171500Z
DTEND:20260423T174500Z
DTSTAMP:20260425T120200Z
UID:indico-event-32572@indico.bnl.gov
DESCRIPTION:https://indico.bnl.gov/event/32572/
URL:https://indico.bnl.gov/event/32572/
END:VEVENT
END:VCALENDAR
