BEGIN:VCALENDAR
VERSION:2.0
PRODID:-//CERN//INDICO//EN
BEGIN:VEVENT
SUMMARY:ePIC AC-LGAD TOF DSC Weekly Meeting
DTSTART:20260423T230000Z
DTEND:20260424T021300Z
DTSTAMP:20260424T130100Z
UID:indico-event-32585@indico.bnl.gov
CONTACT:zxu22@kent.edu\;syano@cern.ch
DESCRIPTION:Speakers: Zhangbu Xu (Kent State University)\, Satoshi Yano\n\
 neic-projdet-tofpid-l@lists.bnl.gov\nzoom link : https://bnl.zoomgov.com/j
 /1617546118?pwd=qNzxLqF8Q4Mj3RerAZdVSELzEgEQzV.1\n\nhttps://indico.bnl.gov
 /event/32585/
LOCATION:https://bnl.zoomgov.com/j/1617546118?pwd=qNzxLqF8Q4Mj3RerAZdVSELz
 EgEQzV.1 (zoom link)
URL:https://indico.bnl.gov/event/32585/
END:VEVENT
END:VCALENDAR
