BEGIN:VCALENDAR
VERSION:2.0
PRODID:-//CERN//INDICO//EN
BEGIN:VEVENT
SUMMARY:dRICH Meeting - ALCOR Chip
DTSTART:20260513T120000Z
DTEND:20260513T140000Z
DTSTAMP:20260425T211100Z
UID:indico-event-32619@indico.bnl.gov
DESCRIPTION:https://indico.bnl.gov/event/32619/
URL:https://indico.bnl.gov/event/32619/
END:VEVENT
END:VCALENDAR
